1.0000000000
0.0000000000
0.0000000000
-1.0000000000
325961.5000000000
4749428.5000000000
