1.0000000000
0.0000000000
0.0000000000
-1.0000000000
330902.5000000000
4742360.5000000000
