1.0000000000
0.0000000000
0.0000000000
-1.0000000000
325786.5000000000
4742487.5000000000
