1.0000000000
0.0000000000
0.0000000000
-1.0000000000
259046.5000000000
4737542.5000000000
