1.0000000000
0.0000000000
0.0000000000
-1.0000000000
253926.5000000000
4737722.5000000000
