1.0000000000
0.0000000000
0.0000000000
-1.0000000000
269287.5000000000
4737193.5000000000
