1.0000000000
0.0000000000
0.0000000000
-1.0000000000
269056.5000000000
4730252.5000000000
