1.0000000000
0.0000000000
0.0000000000
-1.0000000000
279528.5000000000
4736860.5000000000
