1.0000000000
0.0000000000
0.0000000000
-1.0000000000
274182.5000000000
4730084.5000000000
