1.0000000000
0.0000000000
0.0000000000
-1.0000000000
284433.5000000000
4729758.5000000000
