1.0000000000
0.0000000000
0.0000000000
-1.0000000000
294890.5000000000
4736388.5000000000
