1.0000000000
0.0000000000
0.0000000000
-1.0000000000
299810.5000000000
4729297.5000000000
