1.0000000000
0.0000000000
0.0000000000
-1.0000000000
294684.5000000000
4729447.5000000000
