1.0000000000
0.0000000000
0.0000000000
-1.0000000000
305130.5000000000
4736092.5000000000
