1.0000000000
0.0000000000
0.0000000000
-1.0000000000
315371.5000000000
4735812.5000000000
