1.0000000000
0.0000000000
0.0000000000
-1.0000000000
315186.5000000000
4728871.5000000000
