1.0000000000
0.0000000000
0.0000000000
-1.0000000000
325612.5000000000
4735546.5000000000
