1.0000000000
0.0000000000
0.0000000000
-1.0000000000
330563.5000000000
4728479.5000000000
