1.0000000000
0.0000000000
0.0000000000
-1.0000000000
258564.5000000000
4723660.5000000000
