1.0000000000
0.0000000000
0.0000000000
-1.0000000000
667809.5000000000
4763313.5000000000
