1.0000000000
0.0000000000
0.0000000000
-1.0000000000
667979.5000000000
4756372.5000000000
