1.0000000000
0.0000000000
0.0000000000
-1.0000000000
662880.5000000000
4756245.5000000000
