1.0000000000
0.0000000000
0.0000000000
-1.0000000000
678179.5000000000
4756637.5000000000
