1.0000000000
0.0000000000
0.0000000000
-1.0000000000
673079.5000000000
4756503.5000000000
