1.0000000000
0.0000000000
0.0000000000
-1.0000000000
688187.5000000000
4763858.5000000000
