1.0000000000
0.0000000000
0.0000000000
-1.0000000000
683279.5000000000
4756775.5000000000
