1.0000000000
0.0000000000
0.0000000000
-1.0000000000
693282.5000000000
4764004.5000000000
