1.0000000000
0.0000000000
0.0000000000
-1.0000000000
698578.5000000000
4757213.5000000000
