1.0000000000
0.0000000000
0.0000000000
-1.0000000000
708777.5000000000
4757524.5000000000
