1.0000000000
0.0000000000
0.0000000000
-1.0000000000
703678.5000000000
4757366.5000000000
