1.0000000000
0.0000000000
0.0000000000
-1.0000000000
718755.5000000000
4764791.5000000000
