1.0000000000
0.0000000000
0.0000000000
-1.0000000000
713877.5000000000
4757684.5000000000
