1.0000000000
0.0000000000
0.0000000000
-1.0000000000
728944.5000000000
4765132.5000000000
