1.0000000000
0.0000000000
0.0000000000
-1.0000000000
723850.5000000000
4764959.5000000000
