1.0000000000
0.0000000000
0.0000000000
-1.0000000000
729177.5000000000
4758190.5000000000
