1.0000000000
0.0000000000
0.0000000000
-1.0000000000
724077.5000000000
4758018.5000000000
