1.0000000000
0.0000000000
0.0000000000
-1.0000000000
739134.5000000000
4765488.5000000000
