1.0000000000
0.0000000000
0.0000000000
-1.0000000000
734039.5000000000
4765308.5000000000
