1.0000000000
0.0000000000
0.0000000000
-1.0000000000
739377.5000000000
4758547.5000000000
