1.0000000000
0.0000000000
0.0000000000
-1.0000000000
668150.5000000000
4749431.5000000000
