1.0000000000
0.0000000000
0.0000000000
-1.0000000000
663210.5000000000
4742364.5000000000
