1.0000000000
0.0000000000
0.0000000000
-1.0000000000
673254.5000000000
4749562.5000000000
