1.0000000000
0.0000000000
0.0000000000
-1.0000000000
688569.5000000000
4749977.5000000000
