1.0000000000
0.0000000000
0.0000000000
-1.0000000000
683464.5000000000
4749835.5000000000
