1.0000000000
0.0000000000
0.0000000000
-1.0000000000
688760.5000000000
4743036.5000000000
