1.0000000000
0.0000000000
0.0000000000
-1.0000000000
703884.5000000000
4750425.5000000000
