1.0000000000
0.0000000000
0.0000000000
-1.0000000000
704090.5000000000
4743485.5000000000
