1.0000000000
0.0000000000
0.0000000000
-1.0000000000
714310.5000000000
4743802.5000000000
