1.0000000000
0.0000000000
0.0000000000
-1.0000000000
729409.5000000000
4751249.5000000000
