1.0000000000
0.0000000000
0.0000000000
-1.0000000000
724304.5000000000
4751077.5000000000
